BEGIN:VCALENDAR
VERSION:2.0
PRODID:-//Musée de la Soie - ECPv6.15.20//NONSGML v1.0//EN
CALSCALE:GREGORIAN
METHOD:PUBLISH
X-ORIGINAL-URL:https://museedelasoie-cevennes.com
X-WR-CALDESC:Évènements pour Musée de la Soie
REFRESH-INTERVAL;VALUE=DURATION:PT1H
X-Robots-Tag:noindex
X-PUBLISHED-TTL:PT1H
BEGIN:VTIMEZONE
TZID:Europe/Paris
BEGIN:DAYLIGHT
TZOFFSETFROM:+0100
TZOFFSETTO:+0200
TZNAME:CEST
DTSTART:20230326T010000
END:DAYLIGHT
BEGIN:STANDARD
TZOFFSETFROM:+0200
TZOFFSETTO:+0100
TZNAME:CET
DTSTART:20231029T010000
END:STANDARD
BEGIN:DAYLIGHT
TZOFFSETFROM:+0100
TZOFFSETTO:+0200
TZNAME:CEST
DTSTART:20240331T010000
END:DAYLIGHT
BEGIN:STANDARD
TZOFFSETFROM:+0200
TZOFFSETTO:+0100
TZNAME:CET
DTSTART:20241027T010000
END:STANDARD
BEGIN:DAYLIGHT
TZOFFSETFROM:+0100
TZOFFSETTO:+0200
TZNAME:CEST
DTSTART:20250330T010000
END:DAYLIGHT
BEGIN:STANDARD
TZOFFSETFROM:+0200
TZOFFSETTO:+0100
TZNAME:CET
DTSTART:20251026T010000
END:STANDARD
BEGIN:DAYLIGHT
TZOFFSETFROM:+0100
TZOFFSETTO:+0200
TZNAME:CEST
DTSTART:20260329T010000
END:DAYLIGHT
BEGIN:STANDARD
TZOFFSETFROM:+0200
TZOFFSETTO:+0100
TZNAME:CET
DTSTART:20261025T010000
END:STANDARD
END:VTIMEZONE
BEGIN:VEVENT
DTSTART;VALUE=DATE:20241105
DTEND;VALUE=DATE:20241229
DTSTAMP:20260426T053753
CREATED:20241031T141605Z
LAST-MODIFIED:20241206T144946Z
UID:1733-1730764800-1735430399@museedelasoie-cevennes.com
SUMMARY:Exposition Kimonos
DESCRIPTION:Le Musée de la Soie et Monsieur Yuichi SUGIYAMA vous proposent une exposition unique intitulée « L’art de la soie à la japonaise » \nLa collection de Monsieur Sugiyama se mêle parfaitement à celle du musée\, nous rappelant le lien historique très fort entre le Japon et les Cévennes : \n\nISEZAKI MEISEN : kimonos aux couleurs vives\, longtemps portés par les jeunes femmes japonaises\nYÛZEN : méthode traditionnelle de teinture des kimonos permettant de créer des motifs d’animaux\, plantes et paysages naturels\nDessins sur soie locale SERICYNE de YAMAMOTO\, grand artiste de Yûzen\nOBI\, l’art du noeud : ceintures de kimono\nHommage aux 1000 ans du « Dit-de-Genji »\, premier roman jamais écrit\nExposition gratuite (inclus dans le prix d’entrée du musée)\n\n \n \n  \n  \n 
URL:https://museedelasoie-cevennes.com/evenement/exposition-kimonos/
CATEGORIES:Evènement spécial,Exposition
ATTACH;FMTTYPE=image/jpeg:https://museedelasoie-cevennes.com/wp-content/uploads/2024/10/IMG_3955-scaled.jpg
END:VEVENT
BEGIN:VEVENT
DTSTART;TZID=Europe/Paris:20241211T140000
DTEND;TZID=Europe/Paris:20241211T170000
DTSTAMP:20260426T053753
CREATED:20241204T151035Z
LAST-MODIFIED:20241204T151208Z
UID:1794-1733925600-1733936400@museedelasoie-cevennes.com
SUMMARY:Ateliers enfants
DESCRIPTION:  \nAteliers tissage au musée :\nTu apprendras à utiliser le métier à tisser de A à Z pour fabriquer par exemple une pochette.\nTu repartiras avec ta création\, et ton métier \nUne belle façon de fabriquer tes cadeaux de noël ! \n→ À partir de 8 ans\nmercredi 11 et mercredi 18 décembre de 14h à 17h\n13€ matériel compris\n(8 places) \nSur réservation au 04 30 67 26 94
URL:https://museedelasoie-cevennes.com/evenement/ateliers-enfants-2/
CATEGORIES:Animation enfants,Atelier
ATTACH;FMTTYPE=image/jpeg:https://museedelasoie-cevennes.com/wp-content/uploads/2024/12/20240703_121826-scaled.jpg
END:VEVENT
BEGIN:VEVENT
DTSTART;TZID=Europe/Paris:20241211T150000
DTEND;TZID=Europe/Paris:20241211T170000
DTSTAMP:20260426T053753
CREATED:20240903T134146Z
LAST-MODIFIED:20241116T144905Z
UID:1675-1733929200-1733936400@museedelasoie-cevennes.com
SUMMARY:Tissage aux cartes
DESCRIPTION:Le Tissage aux cartes permet de tisser des galons (bandes textiles plus ou moins étroites). Depuis l’âge du bronze jusqu’à la fin du moyen-âge les galons servaient à décorer et personnaliser des vêtements\, ou étaient utilisés comme ceinture par exemple. \nOn peut leur trouver toutes sortes d’usages\, la seule limite étant l’imagination ! \nCélia est historienne :\n‘’Au cours de mes études en Histoire je me suis vite intéressée à la reconstitution historique et à l’archéologie expérimentale. J’ai ainsi découvert la technique du tissage aux cartes sur un camp de reconstitution médiévale. Depuis je n’ai plus jamais lâché les cartes !’’ \nAtelier au musée le 11 décembre\nHoraires : 15h00 à 17h \nTarif matériel compris :\n43€ par personne à partir de 12 ans (ou pour un binôme parent-enfant entre 8 et 12 ans) \nSur réservation auprès du musée au 04 30 67 26 94 \n 
URL:https://museedelasoie-cevennes.com/evenement/tissage-aux-cartes-6/
CATEGORIES:Atelier
ATTACH;FMTTYPE=image/png:https://museedelasoie-cevennes.com/wp-content/uploads/2024/05/gallons.png
ORGANIZER;CN="Mus%C3%A9e de la Soie":MAILTO:contact@museedelasoie-cevennes.com
END:VEVENT
BEGIN:VEVENT
DTSTART;TZID=Europe/Paris:20241218T140000
DTEND;TZID=Europe/Paris:20241218T170000
DTSTAMP:20260426T053753
CREATED:20241204T151603Z
LAST-MODIFIED:20241204T151603Z
UID:1802-1734530400-1734541200@museedelasoie-cevennes.com
SUMMARY:Ateliers enfants
DESCRIPTION:  \nAteliers tissage au musée :\nTu apprendras à utiliser le métier à tisser de A à Z pour fabriquer par exemple une pochette.\nTu repartiras avec ta création\, et ton métier \nUne belle façon de fabriquer tes cadeaux de noël ! \n→ À partir de 8 ans\nmercredi 11 et mercredi 18 décembre de 14h à 17h\n13€ matériel compris\n(8 places) \nSur réservation au 04 30 67 26 94
URL:https://museedelasoie-cevennes.com/evenement/ateliers-enfants-3/
CATEGORIES:Animation enfants,Atelier
ATTACH;FMTTYPE=image/jpeg:https://museedelasoie-cevennes.com/wp-content/uploads/2024/12/20240703_121826-scaled.jpg
END:VEVENT
BEGIN:VEVENT
DTSTART;TZID=Europe/Paris:20241220T000000
DTEND;TZID=Europe/Paris:20241220T235900
DTSTAMP:20260426T053753
CREATED:20240803T143529Z
LAST-MODIFIED:20240803T143529Z
UID:1640-1734652800-1734739140@museedelasoie-cevennes.com
SUMMARY:Feutre foulé
DESCRIPTION:Le feutrage foulé permet une quantité de types de créations\, qu’il soit fin ou épais\, à plat ou en volume. Création textile à part entière\, il s’applique aux vêtements\, aux accessoires\, aux objets de décoration voire artistiques.\nObjectif : cet atelier est une initiation à la technique du feutrage à plat\, ou feutre foulé\, réalisé sur une laine cardée  avec de l’eau savonneuse.\nVous apprendrez à distinguer les laines qui se prêtent le mieux au feutrage\, comment elles rétrécissent\, comment peut-on jouer sur l’épaisseur de l’ouvrage\, sur l’harmonie des couleurs et l’insertion d’autres fibres.\nVous repartirez avec votre ou vos échantillons variés qui pourront  servir de base à de futurs projets. \nL’après -midi  sera abordée le feutrage en volume plein avec réalisation d’une boule. \nHoraires : 10h00  à 16h30\nPause repas : chacun apporte son pique-nic \n70€ matériel compris + 10€ d’adhésion au musée.\nSur réservation auprès du musée. \nPré-requis : Pour adulte.\nAucun autre pré-requis\, si ce n’est être plutôt  patient.e car le procédé est long et minutieux. \nAnimatrice : Brigitte Mathieu – Jaffuel (Objectif Laine)
URL:https://museedelasoie-cevennes.com/evenement/feutre-foule-4/
CATEGORIES:Stage
ATTACH;FMTTYPE=image/jpeg:https://museedelasoie-cevennes.com/wp-content/uploads/2024/03/20240802_112420-scaled.jpg
ORGANIZER;CN="Mus%C3%A9e de la Soie":MAILTO:contact@museedelasoie-cevennes.com
END:VEVENT
BEGIN:VEVENT
DTSTART;TZID=Europe/Paris:20241229T000000
DTEND;TZID=Europe/Paris:20250210T235900
DTSTAMP:20260426T053753
CREATED:20241205T154116Z
LAST-MODIFIED:20250210T095755Z
UID:1810-1735430400-1739231940@museedelasoie-cevennes.com
SUMMARY:Fermeture annuelle
DESCRIPTION:Le musée prend ses congés et vous dit à très bientôt pour une nouvelle saison\, de nouveaux projets\, de nouvelles expos\, etc… \nRéouverture le mardi 11 février 2025
URL:https://museedelasoie-cevennes.com/evenement/fermeture-annuelle/
CATEGORIES:évenement spécial
ATTACH;FMTTYPE=image/png:https://museedelasoie-cevennes.com/wp-content/uploads/2024/12/le-musee-prend-ses-conges-et-vous-dit-a-bientot-pour-une-nouvelle-saison-nouveaux-projets-nouvelles-expos-nouveaux-ateliers.png
END:VEVENT
END:VCALENDAR