BEGIN:VCALENDAR
VERSION:2.0
PRODID:-//Musée de la Soie - ECPv6.15.20//NONSGML v1.0//EN
CALSCALE:GREGORIAN
METHOD:PUBLISH
X-ORIGINAL-URL:https://museedelasoie-cevennes.com
X-WR-CALDESC:Évènements pour Musée de la Soie
REFRESH-INTERVAL;VALUE=DURATION:PT1H
X-Robots-Tag:noindex
X-PUBLISHED-TTL:PT1H
BEGIN:VTIMEZONE
TZID:Europe/Paris
BEGIN:DAYLIGHT
TZOFFSETFROM:+0100
TZOFFSETTO:+0200
TZNAME:CEST
DTSTART:20240331T010000
END:DAYLIGHT
BEGIN:STANDARD
TZOFFSETFROM:+0200
TZOFFSETTO:+0100
TZNAME:CET
DTSTART:20241027T010000
END:STANDARD
BEGIN:DAYLIGHT
TZOFFSETFROM:+0100
TZOFFSETTO:+0200
TZNAME:CEST
DTSTART:20250330T010000
END:DAYLIGHT
BEGIN:STANDARD
TZOFFSETFROM:+0200
TZOFFSETTO:+0100
TZNAME:CET
DTSTART:20251026T010000
END:STANDARD
BEGIN:DAYLIGHT
TZOFFSETFROM:+0100
TZOFFSETTO:+0200
TZNAME:CEST
DTSTART:20260329T010000
END:DAYLIGHT
BEGIN:STANDARD
TZOFFSETFROM:+0200
TZOFFSETTO:+0100
TZNAME:CET
DTSTART:20261025T010000
END:STANDARD
END:VTIMEZONE
BEGIN:VEVENT
DTSTART;TZID=Europe/Paris:20251007T080000
DTEND;TZID=Europe/Paris:20251227T170000
DTSTAMP:20260421T155043
CREATED:20251018T135205Z
LAST-MODIFIED:20251205T155105Z
UID:1885-1759824000-1766854800@museedelasoie-cevennes.com
SUMMARY:Nouvelle exposition !
DESCRIPTION: 
URL:https://museedelasoie-cevennes.com/evenement/nouvelle-exposition-du-musee-de-la-soie/
LOCATION:Musée de la Soie\, Saint-Hippolyte-du-Fort\, 30170
CATEGORIES:Exposition
ORGANIZER;CN="Mus%C3%A9e de la Soie":MAILTO:contact@museedelasoie-cevennes.com
END:VEVENT
BEGIN:VEVENT
DTSTART;VALUE=DATE:20251105
DTEND;VALUE=DATE:20251125
DTSTAMP:20260421T155043
CREATED:20251028T133204Z
LAST-MODIFIED:20251125T100630Z
UID:1906-1762300800-1764028799@museedelasoie-cevennes.com
SUMMARY:La Quinzaine du Japon en Occitanie au Musée de la Soie
DESCRIPTION:Le Japon s’invite à nouveau au Musée de la Soie à l’occasion de la Quinzaine du Japon en Occitanie\, du 6 au 24 novembre 2025. Cette nouvelle édition met à l’honneur la richesse des arts et traditions japonaises\, à travers expositions\, démonstrations et rencontres. Expositions autour des savoir-faire traditionnels et contemporains. Moments de découverte dédiés à la culture japonaise. \nVernissage le vendredi 7 novembre à 18h – une belle occasion de venir découvrir l’événement et d’échanger dans une ambiance conviviale. \nRetrouvez le programme complet de la Quinzaine du Japon en Occitanie sur le site de la Région :https://www.laregion.fr/Le-Japon-s-invite-en-terre…
URL:https://museedelasoie-cevennes.com/evenement/la-quinzaine-du-japon-en-occitanie-au-musee-de-la-soie/
LOCATION:Musée de la Soie\, Saint-Hippolyte-du-Fort\, 30170
ORGANIZER;CN="Mus%C3%A9e de la Soie":MAILTO:contact@museedelasoie-cevennes.com
END:VEVENT
BEGIN:VEVENT
DTSTART;TZID=Europe/Paris:20251112T143000
DTEND;TZID=Europe/Paris:20251112T170000
DTSTAMP:20260421T155043
CREATED:20251028T140640Z
LAST-MODIFIED:20251028T140640Z
UID:1910-1762957800-1762966800@museedelasoie-cevennes.com
SUMMARY:Ateliers créatifs pour petits et grands – Quinzaine du Japon
DESCRIPTION:Dans le cadre de la Quinzaine Japonaise en Occitanie\, le Musée de la Soie propose des ateliers créatifs pour découvrir et s’initier aux arts et traditions japonaises. \nAteliers enfants\nFabrication d’un moulin à vent et d’une carpe koï \nDates : mercredis 12 et 19 novembre à partir de 14h30 \nParticipants : maximum 5 enfants par atelier \nTarif : 10€/enfant \nAtelier Ikebana pour adultes\nInitiation à l’art floral japonais \nDate : mercredi 12 novembre à 14h30 \nParticipants : 2 personnes maximum \nTarif : 10€/personne \nRéservation obligatoire au 04 30 67 26 94 ou par e-mail à contact@museedelasoie-cevennes.com
URL:https://museedelasoie-cevennes.com/evenement/ateliers-creatifs-pour-petits-et-grands-quinzaine-du-japon/
LOCATION:Musée de la Soie\, Saint-Hippolyte-du-Fort\, 30170
ORGANIZER;CN="Mus%C3%A9e de la Soie":MAILTO:contact@museedelasoie-cevennes.com
END:VEVENT
END:VCALENDAR