BEGIN:VCALENDAR
VERSION:2.0
PRODID:-//Musée de la Soie - ECPv6.15.20//NONSGML v1.0//EN
CALSCALE:GREGORIAN
METHOD:PUBLISH
X-WR-CALNAME:Musée de la Soie
X-ORIGINAL-URL:https://museedelasoie-cevennes.com
X-WR-CALDESC:Évènements pour Musée de la Soie
REFRESH-INTERVAL;VALUE=DURATION:PT1H
X-Robots-Tag:noindex
X-PUBLISHED-TTL:PT1H
BEGIN:VTIMEZONE
TZID:Europe/Paris
BEGIN:DAYLIGHT
TZOFFSETFROM:+0100
TZOFFSETTO:+0200
TZNAME:CEST
DTSTART:20240331T010000
END:DAYLIGHT
BEGIN:STANDARD
TZOFFSETFROM:+0200
TZOFFSETTO:+0100
TZNAME:CET
DTSTART:20241027T010000
END:STANDARD
BEGIN:DAYLIGHT
TZOFFSETFROM:+0100
TZOFFSETTO:+0200
TZNAME:CEST
DTSTART:20250330T010000
END:DAYLIGHT
BEGIN:STANDARD
TZOFFSETFROM:+0200
TZOFFSETTO:+0100
TZNAME:CET
DTSTART:20251026T010000
END:STANDARD
BEGIN:DAYLIGHT
TZOFFSETFROM:+0100
TZOFFSETTO:+0200
TZNAME:CEST
DTSTART:20260329T010000
END:DAYLIGHT
BEGIN:STANDARD
TZOFFSETFROM:+0200
TZOFFSETTO:+0100
TZNAME:CET
DTSTART:20261025T010000
END:STANDARD
END:VTIMEZONE
BEGIN:VEVENT
DTSTART;TZID=Europe/Paris:20250614T103000
DTEND;TZID=Europe/Paris:20250930T180000
DTSTAMP:20260423T001301
CREATED:20250620T141026Z
LAST-MODIFIED:20250717T100801Z
UID:1869-1749897000-1759255200@museedelasoie-cevennes.com
SUMMARY:Exposition Haute Lisse en Cévennes
DESCRIPTION:Venez découvrir la nouvelle exposition du Musée de la Soie des tapisseries haute lisse de Eliette Tardres-Lacassin\, qui partage avec nous sa vision unique de notre paysage cévenol.
URL:https://museedelasoie-cevennes.com/evenement/exposition-haute-lisse-en-cevennes/
LOCATION:Musée de la Soie\, Saint-Hippolyte-du-Fort\, 30170
ORGANIZER;CN="Mus%C3%A9e de la Soie":MAILTO:contact@museedelasoie-cevennes.com
END:VEVENT
BEGIN:VEVENT
DTSTART;TZID=Europe/Paris:20250723T150000
DTEND;TZID=Europe/Paris:20250820T170000
DTSTAMP:20260423T001301
CREATED:20250717T100625Z
LAST-MODIFIED:20250717T100820Z
UID:1881-1753282800-1755709200@museedelasoie-cevennes.com
SUMMARY:Ateliers enfants
DESCRIPTION:Ateliers tissage au musée le mercredi 23 juillet et le mercredi 13 août\nTu apprendras à utiliser le métier à tisser de A à Z pour fabriquer par exemple une pochette.\nTu repartiras avec ta création ! \nFabrication d’une pochette de lavande le mercredi 20 août\nPochette de lavande en feutre en forme de feuille mûrier \nde 6 ans à 12 ans \n10€ matériel compris\n(6 places) \nSur réservation au 04 30 67 26 94 ou par e-mail
URL:https://museedelasoie-cevennes.com/evenement/ateliers-enfants-4/
LOCATION:Musée de la Soie\, Saint-Hippolyte-du-Fort\, 30170
END:VEVENT
END:VCALENDAR